BEGIN:VCALENDAR
VERSION:2.0
PRODID:-//Paws - N - Relax - ECPv6.15.20//NONSGML v1.0//EN
CALSCALE:GREGORIAN
METHOD:PUBLISH
X-ORIGINAL-URL:https://www.pawsnrelax.net
X-WR-CALDESC:Events for Paws - N - Relax
REFRESH-INTERVAL;VALUE=DURATION:PT1H
X-Robots-Tag:noindex
X-PUBLISHED-TTL:PT1H
BEGIN:VTIMEZONE
TZID:America/Chicago
BEGIN:DAYLIGHT
TZOFFSETFROM:-0600
TZOFFSETTO:-0500
TZNAME:CDT
DTSTART:20250309T080000
END:DAYLIGHT
BEGIN:STANDARD
TZOFFSETFROM:-0500
TZOFFSETTO:-0600
TZNAME:CST
DTSTART:20251102T070000
END:STANDARD
BEGIN:DAYLIGHT
TZOFFSETFROM:-0600
TZOFFSETTO:-0500
TZNAME:CDT
DTSTART:20260308T080000
END:DAYLIGHT
BEGIN:STANDARD
TZOFFSETFROM:-0500
TZOFFSETTO:-0600
TZNAME:CST
DTSTART:20261101T070000
END:STANDARD
BEGIN:DAYLIGHT
TZOFFSETFROM:-0600
TZOFFSETTO:-0500
TZNAME:CDT
DTSTART:20270314T080000
END:DAYLIGHT
BEGIN:STANDARD
TZOFFSETFROM:-0500
TZOFFSETTO:-0600
TZNAME:CST
DTSTART:20271107T070000
END:STANDARD
END:VTIMEZONE
BEGIN:VEVENT
DTSTART;TZID=America/Chicago:20260426T080000
DTEND;TZID=America/Chicago:20260426T170000
DTSTAMP:20260424T070451
CREATED:20260424T031149Z
LAST-MODIFIED:20260424T041633Z
UID:3116-1777190400-1777222800@www.pawsnrelax.net
SUMMARY:Dog Parkour Drop in
DESCRIPTION:
URL:https://www.pawsnrelax.net/event/dog-parkour-drop-in
LOCATION:Pearce Estate Park\, 1440 17a St SE\, Calgary\, AB\, T2G 4T9\, Canada
CATEGORIES:Parkour
ATTACH;FMTTYPE=image/jpeg:https://www.pawsnrelax.net/wp-content/uploads/2024/06/447526831_427259236932952_523600065426829854_n.jpg
ORGANIZER;CN="Paws N Relax":MAILTO:hello@pawsnrelax.net
END:VEVENT
END:VCALENDAR